BEGIN:VCALENDAR
VERSION:2.0
PRODID:-//Walt Churchill&#039;s Market - ECPv6.15.12.2//NONSGML v1.0//EN
CALSCALE:GREGORIAN
METHOD:PUBLISH
X-ORIGINAL-URL:https://waltchurchillsmarket.com
X-WR-CALDESC:Events for Walt Churchill&#039;s Market
REFRESH-INTERVAL;VALUE=DURATION:PT1H
X-Robots-Tag:noindex
X-PUBLISHED-TTL:PT1H
BEGIN:VTIMEZONE
TZID:UTC
BEGIN:STANDARD
TZOFFSETFROM:+0000
TZOFFSETTO:+0000
TZNAME:UTC
DTSTART:20240101T000000
END:STANDARD
END:VTIMEZONE
BEGIN:VEVENT
DTSTART;TZID=UTC:20251106T190000
DTEND;TZID=UTC:20251106T210000
DTSTAMP:20260419T125212
CREATED:20250916T201720Z
LAST-MODIFIED:20251027T184329Z
UID:7212-1762455600-1762462800@waltchurchillsmarket.com
SUMMARY:2025 WCM Taste Of The Holidays
DESCRIPTION:Get ready for an evening filled with good music\, delicious food\, and great company. \nNote: Due to the nature of the event\, guests must be 21 or older to attend. Tickets include $3.88 sales tax and are non-refundable \n\n\n\nEvent Name: A Taste of The Holidays – Holiday Food & Wine Celebration\nEvent Date: November 6th\, 2025\nTime: 7-9 P.M.\nLocation: 3320 Briarfield Blvd\, Maumee\nDescription: A private tasting event showcasing premier holiday products and specialty creations\, paired with wines perfect for holiday entertaining.\n\n\n\nOver 30 premium wines\, live entertainment\, Beef Rib Roast and Tenderloin carving station\, store made sushi\, fresh shucked oysters\, gourmet bites\, specialty cheeses & charcuterie\, seasonal baked goods and much more!  \nMenu TBA
URL:https://waltchurchillsmarket.com/event/taste-of-the-holidays-2025/
LOCATION:Walt Churchill’s Market – Maumee\, 3320 Briarfield Blvd\, Maumee\, OH\, United States
ATTACH;FMTTYPE=image/jpeg:https://waltchurchillsmarket.com/wp-content/uploads/2025/09/fW25-2-im-2.jpg
END:VEVENT
END:VCALENDAR