BEGIN:VCALENDAR
VERSION:2.0
PRODID:-//Walt Churchill&#039;s Market - ECPv6.15.12.2//NONSGML v1.0//EN
CALSCALE:GREGORIAN
METHOD:PUBLISH
X-WR-CALNAME:Walt Churchill&#039;s Market
X-ORIGINAL-URL:https://waltchurchillsmarket.com
X-WR-CALDESC:Events for Walt Churchill&#039;s Market
REFRESH-INTERVAL;VALUE=DURATION:PT1H
X-Robots-Tag:noindex
X-PUBLISHED-TTL:PT1H
BEGIN:VTIMEZONE
TZID:America/Detroit
BEGIN:DAYLIGHT
TZOFFSETFROM:-0500
TZOFFSETTO:-0400
TZNAME:EDT
DTSTART:20250309T070000
END:DAYLIGHT
BEGIN:STANDARD
TZOFFSETFROM:-0400
TZOFFSETTO:-0500
TZNAME:EST
DTSTART:20251102T060000
END:STANDARD
BEGIN:DAYLIGHT
TZOFFSETFROM:-0500
TZOFFSETTO:-0400
TZNAME:EDT
DTSTART:20260308T070000
END:DAYLIGHT
BEGIN:STANDARD
TZOFFSETFROM:-0400
TZOFFSETTO:-0500
TZNAME:EST
DTSTART:20261101T060000
END:STANDARD
BEGIN:DAYLIGHT
TZOFFSETFROM:-0500
TZOFFSETTO:-0400
TZNAME:EDT
DTSTART:20270314T070000
END:DAYLIGHT
BEGIN:STANDARD
TZOFFSETFROM:-0400
TZOFFSETTO:-0500
TZNAME:EST
DTSTART:20271107T060000
END:STANDARD
END:VTIMEZONE
BEGIN:VEVENT
DTSTART;TZID=America/Detroit:20260528T170000
DTEND;TZID=America/Detroit:20260528T190000
DTSTAMP:20260422T060659
CREATED:20260421T203539Z
LAST-MODIFIED:20260421T205514Z
UID:9395-1779987600-1779994800@waltchurchillsmarket.com
SUMMARY:Sip & Explore Maumee – Welcome to Summer Fun and Food
DESCRIPTION:Sip & Explore Maumee – Welcome to Summer Fun and Food\nMaumee Location Thursday May 28th \n$40 per person (plus tax) \nJoin us for a special wine tasting event featuring sensuous wine selections and small plate pairings to get you ready for summertime fun.  Four courses of food will be paired with wines carefully selected to delight the palate \nDue to the nature of this event\, showcased food offerings and wines are prepared and timed to optimize your experience. This event will begin at 5 pm sharp. Please arrive promptly to ensure that you don’t miss out on any of these great featured items. \nSpecific wine selections will be announced that evening.
URL:https://waltchurchillsmarket.com/event/welcome-to-summer-fun-and-food/
END:VEVENT
END:VCALENDAR