BEGIN:VCALENDAR
VERSION:2.0
PRODID:-//Walt Churchill&#039;s Market - ECPv6.15.12.2//NONSGML v1.0//EN
CALSCALE:GREGORIAN
METHOD:PUBLISH
X-ORIGINAL-URL:https://waltchurchillsmarket.com
X-WR-CALDESC:Events for Walt Churchill&#039;s Market
REFRESH-INTERVAL;VALUE=DURATION:PT1H
X-Robots-Tag:noindex
X-PUBLISHED-TTL:PT1H
BEGIN:VTIMEZONE
TZID:America/Detroit
BEGIN:DAYLIGHT
TZOFFSETFROM:-0500
TZOFFSETTO:-0400
TZNAME:EDT
DTSTART:20240310T070000
END:DAYLIGHT
BEGIN:STANDARD
TZOFFSETFROM:-0400
TZOFFSETTO:-0500
TZNAME:EST
DTSTART:20241103T060000
END:STANDARD
BEGIN:DAYLIGHT
TZOFFSETFROM:-0500
TZOFFSETTO:-0400
TZNAME:EDT
DTSTART:20250309T070000
END:DAYLIGHT
BEGIN:STANDARD
TZOFFSETFROM:-0400
TZOFFSETTO:-0500
TZNAME:EST
DTSTART:20251102T060000
END:STANDARD
BEGIN:DAYLIGHT
TZOFFSETFROM:-0500
TZOFFSETTO:-0400
TZNAME:EDT
DTSTART:20260308T070000
END:DAYLIGHT
BEGIN:STANDARD
TZOFFSETFROM:-0400
TZOFFSETTO:-0500
TZNAME:EST
DTSTART:20261101T060000
END:STANDARD
END:VTIMEZONE
BEGIN:VEVENT
DTSTART;TZID=America/Detroit:20251227T160000
DTEND;TZID=America/Detroit:20251227T180000
DTSTAMP:20260419T093615
CREATED:20251211T155924Z
LAST-MODIFIED:20251211T161936Z
UID:8188-1766851200-1766858400@waltchurchillsmarket.com
SUMMARY:Bubbles & Bites
DESCRIPTION:✨ Bubbles & Bites – A Sparkling New Year Celebration ✨ \nRaise a glass to the year ahead at Bubbles & Bites\, an elegant tasting event featuring a curated selection of celebration wines perfect for New Year’s Eve\, each paired with festive\, chef-inspired appetizers. \nJoin us for an afternoon of flavor\, fun\, and fizz as we explore bright whites\, lively bubbles\, and delicious bites designed to complement every pour. \n📅 Saturday\, December 27th\n⏰ 4:00 PM – 6:00 PM Perrysburg or Maumee Store\n💲 $45 per person + Tax \nWhether you’re picking the perfect bottle for your holiday party or simply enjoying a sparkling night out\, this event is the perfect way to toast the season. \nDue to the nature of this event\, guest must be 21 years of age or older
URL:https://waltchurchillsmarket.com/event/bubbles-and-bites-2025/
ATTACH;FMTTYPE=image/jpeg:https://waltchurchillsmarket.com/wp-content/uploads/2025/12/AdobeStock_731635981.jpg
END:VEVENT
END:VCALENDAR